BEGIN:VCALENDAR
VERSION:2.0
PRODID:-//eventon.com NONSGML v1.0//EN
CALSCALE:GREGORIAN
METHOD:PUBLISH
BEGIN:VEVENT
UID:69ec396e6db3f
DTSTAMP:20260425T034758Z
DTSTART:20190112T203000Z
DTEND:20190112T235000Z
LOCATION:Veranstaltungszentrum "Die Turnhalle" Jahnstraße 2\,  4320 Perg
SUMMARY:Turnerball
DESCRIPTION:Turnerball\nhttps://www.dieturnhalle.at/events/turnerball/
URL:https://www.dieturnhalle.at/events/turnerball/
END:VEVENT
END:VCALENDAR