BEGIN:VCALENDAR
VERSION:2.0
PRODID:-//eventon.com NONSGML v1.0//EN
CALSCALE:GREGORIAN
METHOD:PUBLISH
BEGIN:VEVENT
UID:69ec283c9c406
DTSTAMP:20260425T023436Z
DTSTART:20200111T203000Z
DTEND:20200111T235000Z
LOCATION:Veranstaltungszentrum "Die Turnhalle" Jahnstraße 2\,  4320 Perg
SUMMARY:Turnerball
DESCRIPTION:Turnerball\nhttps://www.dieturnhalle.at/events/turnerball-2020/
URL:https://www.dieturnhalle.at/events/turnerball-2020/
END:VEVENT
END:VCALENDAR