BEGIN:VCALENDAR
VERSION:2.0
PRODID:-//eventon.com NONSGML v1.0//EN
CALSCALE:GREGORIAN
METHOD:PUBLISH
BEGIN:VEVENT
UID:69ec17f9d6f83
DTSTAMP:20260425T012513Z
DTSTART:20190303T150000Z
DTEND:20190303T235000Z
LOCATION:Veranstaltungszentrum "Die Turnhalle" Jahnstraße 2\,  4320 Perg
SUMMARY:Kindermaskenball
DESCRIPTION:Ein Kinderfasching\,  der bewegt&#8230;nicht nur lustige Tänze
  warten auf die Besucher\,  sondern eine ganze Bewegungslandschaft wird fü
 r Spaß und Unterhaltung sorgen. &nbsp; &nbsp;\nhttps://www.dieturnhalle.at
 /events/kindermaskenball/
URL:https://www.dieturnhalle.at/events/kindermaskenball/
END:VEVENT
END:VCALENDAR