BEGIN:VCALENDAR
VERSION:2.0
PRODID:-//eventon.com NONSGML v1.0//EN
CALSCALE:GREGORIAN
METHOD:PUBLISH
BEGIN:VEVENT
UID:69ec184dc6042
DTSTAMP:20260425T012637Z
DTSTART:20191123T200000Z
DTEND:20191123T235000Z
LOCATION:Veranstaltungszentrum "Die Turnhalle" Jahnstraße 2\,  4320 Perg
SUMMARY:Cäcilienkonzert
DESCRIPTION:Cäcilienkonzert\nhttps://www.dieturnhalle.at/events/caecilienk
 onzert-2020/
URL:https://www.dieturnhalle.at/events/caecilienkonzert-2020/
END:VEVENT
END:VCALENDAR