BEGIN:VCALENDAR
VERSION:2.0
PRODID:-//eventon.com NONSGML v1.0//EN
CALSCALE:GREGORIAN
METHOD:PUBLISH
BEGIN:VEVENT
UID:69ebf50e73830
DTSTAMP:20260424T225614Z
DTSTART:20190202T200000Z
DTEND:20190202T235000Z
LOCATION:Veranstaltungszentrum "Die Turnhalle" Jahnstraße 2\,  4320 Perg
SUMMARY:Maturaball Gymn. Baumgartenberg
DESCRIPTION:Maturaball Gymn. Baumgartenberg\nhttps://www.dieturnhalle.at/ev
 ents/maturaball-gymn-baumgartenberg/
URL:https://www.dieturnhalle.at/events/maturaball-gymn-baumgartenberg/
END:VEVENT
END:VCALENDAR