BEGIN:VCALENDAR
VERSION:2.0
PRODID:-//eventon.com NONSGML v1.0//EN
CALSCALE:GREGORIAN
METHOD:PUBLISH
BEGIN:VEVENT
UID:69ebe68ba780d
DTSTAMP:20260424T215419Z
DTSTART:20190206T200000Z
DTEND:20190206T235000Z
LOCATION:Veranstaltungszentrum "Die Turnhalle" Jahnstraße 2\,  4320 Perg
SUMMARY:Kabarett
DESCRIPTION:Kabarett\nhttps://www.dieturnhalle.at/events/kabarett/
URL:https://www.dieturnhalle.at/events/kabarett/
END:VEVENT
END:VCALENDAR