BEGIN:VCALENDAR
VERSION:2.0
PRODID:-//eventon.com NONSGML v1.0//EN
CALSCALE:GREGORIAN
METHOD:PUBLISH
BEGIN:VEVENT
UID:69ec978777891
DTSTAMP:20260425T102927Z
DTSTART:20191109T200000Z
DTEND:20191109T235000Z
LOCATION:Veranstaltungszentrum "Die Turnhalle" Jahnstraße 2\,  4320 Perg
SUMMARY:HAK Maturaball
DESCRIPTION:HAK Maturaball\nhttps://www.dieturnhalle.at/events/hak-maturaba
 ll/
URL:https://www.dieturnhalle.at/events/hak-maturaball/
END:VEVENT
END:VCALENDAR