BEGIN:VCALENDAR
VERSION:2.0
PRODID:-//eventon.com NONSGML v1.0//EN
CALSCALE:GREGORIAN
METHOD:PUBLISH
BEGIN:VEVENT
UID:69ec98dc03f32
DTSTAMP:20260425T103508Z
DTSTART:20190315T180000Z
DTEND:20190315T235000Z
LOCATION:Veranstaltungszentrum "Die Turnhalle" Jahnstraße 2\,  4320 Perg
SUMMARY:Kabartett
DESCRIPTION:Kabartett\nhttps://www.dieturnhalle.at/events/kabartett/
URL:https://www.dieturnhalle.at/events/kabartett/
END:VEVENT
END:VCALENDAR