BEGIN:VCALENDAR
VERSION:2.0
PRODID:-//eventon.com NONSGML v1.0//EN
CALSCALE:GREGORIAN
METHOD:PUBLISH
BEGIN:VEVENT
UID:69ecae1e0f097
DTSTAMP:20260425T120550Z
DTSTART:20190427
DTEND:20190428
LOCATION:Veranstaltungszentrum "Die Turnhalle" Jahnstraße 2\,  4320 Perg
SUMMARY:Frühjahrskonzert
DESCRIPTION:Frühjahrskonzert\nhttps://www.dieturnhalle.at/events/fruehjahr
 skonzert-2/
URL:https://www.dieturnhalle.at/events/fruehjahrskonzert-2/
END:VEVENT
END:VCALENDAR