BEGIN:VCALENDAR
VERSION:2.0
PRODID:-//eventon.com NONSGML v1.0//EN
CALSCALE:GREGORIAN
METHOD:PUBLISH
BEGIN:VEVENT
UID:69ecc08fcb3fa
DTSTAMP:20260425T132431Z
DTSTART:20190504T200000Z
DTEND:20190504T235000Z
LOCATION:Veranstaltungszentrum "Die Turnhalle" Jahnstraße 2\,  4320 Perg
SUMMARY:HABAU-Ball 2019
DESCRIPTION:HABAU-Ball 2019\nhttps://www.dieturnhalle.at/events/habau-ball-
 2019/
URL:https://www.dieturnhalle.at/events/habau-ball-2019/
END:VEVENT
END:VCALENDAR