BEGIN:VCALENDAR
VERSION:2.0
PRODID:-//eventon.com NONSGML v1.0//EN
CALSCALE:GREGORIAN
METHOD:PUBLISH
BEGIN:VEVENT
UID:69ecd5b54879d
DTSTAMP:20260425T145445Z
DTSTART:20190511
DTEND:20190512
LOCATION:Veranstaltungszentrum "Die Turnhalle" Jahnstraße 2\,  4320 Perg
SUMMARY:Firmenjubiläum
DESCRIPTION:Firmenjubiläum\nhttps://www.dieturnhalle.at/events/firmenjubil
 aeum/
URL:https://www.dieturnhalle.at/events/firmenjubilaeum/
END:VEVENT
END:VCALENDAR