BEGIN:VCALENDAR
VERSION:2.0
PRODID:-//eventon.com NONSGML v1.0//EN
CALSCALE:GREGORIAN
METHOD:PUBLISH
BEGIN:VEVENT
UID:69e693b64f0c7
DTSTAMP:20260420T205934Z
DTSTART:20210509T113000Z
DTEND:20210509T150000Z
LOCATION:Veranstaltungszentrum "Die Turnhalle" Jahnstraße 2\,  4320 Perg
SUMMARY:Mittagessen Mauthausen-Besucher
DESCRIPTION:Mittagessen Mauthausen-Besucher\nhttps://www.dieturnhalle.at/ev
 ents/mittagessen-mauthausen-besucher/
URL:https://www.dieturnhalle.at/events/mittagessen-mauthausen-besucher/
END:VEVENT
END:VCALENDAR