BEGIN:VCALENDAR
VERSION:2.0
PRODID:-//eventon.com NONSGML v1.0//EN
CALSCALE:GREGORIAN
METHOD:PUBLISH
BEGIN:VEVENT
UID:69e680d9245ce
DTSTAMP:20260420T193905Z
DTSTART:20210515T100000Z
DTEND:20210515T235900Z
LOCATION:Veranstaltungszentrum "Die Turnhalle" Jahnstraße 2\,  4320 Perg
SUMMARY:Bodybuilding Wettbewerb
DESCRIPTION:Bodybuilding Wettbewerb\nhttps://www.dieturnhalle.at/events/bod
 ybuilding-wettbewerb/
URL:https://www.dieturnhalle.at/events/bodybuilding-wettbewerb/
END:VEVENT
END:VCALENDAR