BEGIN:VCALENDAR
VERSION:2.0
PRODID:-//eventon.com NONSGML v1.0//EN
CALSCALE:GREGORIAN
METHOD:PUBLISH
BEGIN:VEVENT
UID:69e66b0db0650
DTSTAMP:20260420T180605Z
DTSTART:20210618T160000Z
DTEND:20210618T190000Z
LOCATION:Veranstaltungszentrum "Die Turnhalle" Jahnstraße 2\,  4320 Perg
SUMMARY:Maturafeier
DESCRIPTION:Maturafeier\nhttps://www.dieturnhalle.at/events/maturafeier-3/
URL:https://www.dieturnhalle.at/events/maturafeier-3/
END:VEVENT
END:VCALENDAR