BEGIN:VCALENDAR
VERSION:2.0
PRODID:-//eventon.com NONSGML v1.0//EN
CALSCALE:GREGORIAN
METHOD:PUBLISH
BEGIN:VEVENT
UID:69e67f426a71e
DTSTAMP:20260420T193218Z
DTSTART:20210619T150000Z
DTEND:20210619T170000Z
LOCATION:Veranstaltungszentrum "Die Turnhalle" Jahnstraße 2\,  4320 Perg
SUMMARY:Leichtathletik-Stadtmeisterschaften
DESCRIPTION:Leichtathletik-Stadtmeisterschaften\nhttps://www.dieturnhalle.a
 t/events/leichtathletik-stadtmeisterschaften/
URL:https://www.dieturnhalle.at/events/leichtathletik-stadtmeisterschaften/
END:VEVENT
END:VCALENDAR