BEGIN:VCALENDAR
VERSION:2.0
PRODID:-//eventon.com NONSGML v1.0//EN
CALSCALE:GREGORIAN
METHOD:PUBLISH
BEGIN:VEVENT
UID:69e6940eb70a5
DTSTAMP:20260420T210102Z
DTSTART:20210619T190000Z
DTEND:20210619T235900Z
LOCATION:Veranstaltungszentrum "Die Turnhalle" Jahnstraße 2\,  4320 Perg
SUMMARY:Sonnwendfeier
DESCRIPTION:Sonnwendfeier\nhttps://www.dieturnhalle.at/events/sonnwendfeier
 /
URL:https://www.dieturnhalle.at/events/sonnwendfeier/
END:VEVENT
END:VCALENDAR