BEGIN:VCALENDAR
VERSION:2.0
PRODID:-//eventon.com NONSGML v1.0//EN
CALSCALE:GREGORIAN
METHOD:PUBLISH
BEGIN:VEVENT
UID:69e6a8fde7599
DTSTAMP:20260420T223021Z
DTSTART:20210626T080000Z
DTEND:20210626T180000Z
LOCATION:Veranstaltungszentrum "Die Turnhalle" Jahnstraße 2\,  4320 Perg
SUMMARY:Faustball-Stadtmeisterschaft
DESCRIPTION:Faustball-Stadtmeisterschaft\nhttps://www.dieturnhalle.at/event
 s/faustball-stadtmeisterschaft-2/
URL:https://www.dieturnhalle.at/events/faustball-stadtmeisterschaft-2/
END:VEVENT
END:VCALENDAR