BEGIN:VCALENDAR
VERSION:2.0
PRODID:-//eventon.com NONSGML v1.0//EN
CALSCALE:GREGORIAN
METHOD:PUBLISH
BEGIN:VEVENT
UID:69ecb046488d4
DTSTAMP:20260425T121502Z
DTSTART:20220430T080000Z
DTEND:20220430T150000Z
LOCATION:Veranstaltungszentrum "Die Turnhalle" Jahnstraße 2\,  4320 Perg
SUMMARY:Bezirksjägertag 2022
DESCRIPTION:Bezirksjägertag 2022\nhttps://www.dieturnhalle.at/events/bezir
 ksjaegertag-2022/
URL:https://www.dieturnhalle.at/events/bezirksjaegertag-2022/
END:VEVENT
END:VCALENDAR