BEGIN:VCALENDAR
VERSION:2.0
PRODID:-//eventon.com NONSGML v1.0//EN
CALSCALE:GREGORIAN
METHOD:PUBLISH
BEGIN:VEVENT
UID:69ec2c77d1857
DTSTAMP:20260425T025239Z
DTSTART:20211214T190000Z
DTEND:20211214T235000Z
LOCATION:Veranstaltungszentrum "Die Turnhalle" Jahnstraße 2\,  4320 Perg
SUMMARY:Gemeinderatssitzung
DESCRIPTION:Gemeinderatssitzung\nhttps://www.dieturnhalle.at/events/gemeind
 eratssitzung-dez-2021/
URL:https://www.dieturnhalle.at/events/gemeinderatssitzung-dez-2021/
END:VEVENT
END:VCALENDAR