BEGIN:VCALENDAR
VERSION:2.0
PRODID:-//eventon.com NONSGML v1.0//EN
CALSCALE:GREGORIAN
METHOD:PUBLISH
BEGIN:VEVENT
UID:69e73190ad0b6
DTSTAMP:20260421T081304Z
DTSTART:20221218T150000Z
DTEND:20221218T180000Z
LOCATION:Veranstaltungszentrum "Die Turnhalle" Jahnstraße 2\,  4320 Perg
SUMMARY:Weihnachtsschauturnen der Jugend
DESCRIPTION:Weihnachtsschauturnen der Jugend\nhttps://www.dieturnhalle.at/e
 vents/weihnachtsschauturnen-der-jugend-22/
URL:https://www.dieturnhalle.at/events/weihnachtsschauturnen-der-jugend-22/
END:VEVENT
END:VCALENDAR