BEGIN:VCALENDAR
VERSION:2.0
PRODID:-//eventon.com NONSGML v1.0//EN
CALSCALE:GREGORIAN
METHOD:PUBLISH
BEGIN:VEVENT
UID:69e5c23b996f0
DTSTAMP:20260420T060547Z
DTSTART:20231007T200000Z
DTEND:20231007T235000Z
LOCATION:
SUMMARY:Maturaball BORG Perg
DESCRIPTION:Maturaball BORG Perg\nhttps://www.dieturnhalle.at/events/matura
 ball-borg-perg-2023/
URL:https://www.dieturnhalle.at/events/maturaball-borg-perg-2023/
END:VEVENT
END:VCALENDAR