BEGIN:VCALENDAR
VERSION:2.0
PRODID:-//eventon.com NONSGML v1.0//EN
CALSCALE:GREGORIAN
METHOD:PUBLISH
BEGIN:VEVENT
UID:69e5ae8345790
DTSTAMP:20260420T044139Z
DTSTART:20231010T114500Z
DTEND:20231010T235000Z
LOCATION:Veranstaltungszentrum "Die Turnhalle" Jahnstraße 2\,  4320 Perg
SUMMARY:Schultheater
DESCRIPTION:Schultheater\nhttps://www.dieturnhalle.at/events/schultheater-2
 023/
URL:https://www.dieturnhalle.at/events/schultheater-2023/
END:VEVENT
END:VCALENDAR