BEGIN:VCALENDAR
VERSION:2.0
PRODID:-//eventon.com NONSGML v1.0//EN
CALSCALE:GREGORIAN
METHOD:PUBLISH
BEGIN:VEVENT
UID:69e59bdc4fddc
DTSTAMP:20260420T032204Z
DTSTART:20231021T200000Z
DTEND:20231021T235000Z
LOCATION:Veranstaltungszentrum "Die Turnhalle" Jahnstraße 2\,  4320 Perg
SUMMARY:Maturaball HAK Perg
DESCRIPTION:Maturaball HAK Perg\nhttps://www.dieturnhalle.at/events/maturab
 all-hak-perg-2023/
URL:https://www.dieturnhalle.at/events/maturaball-hak-perg-2023/
END:VEVENT
END:VCALENDAR