BEGIN:VCALENDAR
VERSION:2.0
PRODID:-//eventon.com NONSGML v1.0//EN
CALSCALE:GREGORIAN
METHOD:PUBLISH
BEGIN:VEVENT
UID:69e5872742460
DTSTAMP:20260420T015343Z
DTSTART:20231025T180000Z
DTEND:20231025T235000Z
LOCATION:Veranstaltungszentrum "Die Turnhalle" Jahnstraße 2\,  4320 Perg
SUMMARY:Ein kulinarischer Höhenflug für ein Kinderlächeln
DESCRIPTION:Ein kulinarischer Höhenflug für ein Kinderlächeln\nhttps://w
 ww.dieturnhalle.at/events/ein-kulinarischer-hoehenflug-fuer-ein-kinderlaech
 eln-2023/
URL:https://www.dieturnhalle.at/events/ein-kulinarischer-hoehenflug-fuer-ein-kinderlaecheln-2023/
END:VEVENT
END:VCALENDAR