BEGIN:VCALENDAR
VERSION:2.0
PRODID:-//eventon.com NONSGML v1.0//EN
CALSCALE:GREGORIAN
METHOD:PUBLISH
BEGIN:VEVENT
UID:69ea1d6f93934
DTSTAMP:20260423T132359Z
DTSTART:20240212T170000Z
DTEND:20240212T235000Z
LOCATION:Veranstaltungszentrum "Die Turnhalle" Jahnstraße 2\,  4320 Perg
SUMMARY:Tanzkurse Sommersemester
DESCRIPTION:Tanzkurse Sommersemester\nhttps://www.dieturnhalle.at/events/ta
 nzkurse-sommersemester-2024/var/ri-2.l-L1
URL:https://www.dieturnhalle.at/events/tanzkurse-sommersemester-2024/var/ri-2.l-L1
END:VEVENT
END:VCALENDAR